Workbook

Sheet MarkBook
D2: Type | E2: Assign | F2: Assign | G2: Assign | H2: Exam | I2: Exam | J2: Exam | K2: Exam | L2: Exam
D3: Weight | E3: 10 | F3: 10 | G3: 20 | H3: 30 | I3: 10 | J3: 10 | K3: 5 | L3: 5
D4: Difficulty | E4: 2 | F4: 5 | G4: 3 | H4: 6 | I4: 7 | J4: 1 | K4: 8 | L4: 4 | N4: Overall | Q4: Science Inquiry Skills (SIS) | T4: Scientific Understanding (SU) | W4: Communication
B5: Name | C5: St Code | D5: Criteria | E5: SU - recall & explanation | F5: SIS - display data | G5: SIS - exp design | H5: SU - recall, explanation | I5: SU - maths | J5: SIS display-interpret data | K5: SIS - exp design, review | L5: Comm | N5: Total weighted | O5: Total avg | P5: Overall grade | Q5: SIS weighted | R5: SIS avg | S5: SIS grade | T5: SU weighted | U5: SU avg | V5: SU grade | W5: com weighted | X5: Com avg | Y5: Com Grade
B6: Student 1 | C6: 10001 | E6: 7 | F6: 6 | G6: 11 | H6: 7 | I6: 3 | J6: 15 | K6: 10 | L6: 12 | N6: =J6*$J$3+G6*$G$3+E6*$E$3+L6*$L$3+F6*$F$3+H6*$H$3+I6*$I$3+K6*$K$3 -> 850 | O6: =ROUND((N6/(SUM($E$3:$L$3))),0) -> 9 | P6: =VLOOKUP(O6,gradelookup!$A$1:$B$16,2,FALSE) -> C+ | Q6: =J6*$J$3+G6*$G$3+F6*$F$3+K6*$K$3 -> 480 | R6: =ROUND((Q6/($J$3+$G$3+$F$3+$K$3)),0) -> 11 | S6: =VLOOKUP(R6,gradelookup!$A$1:$B$16,2,FALSE) -> B | T6: =E6*$E$3+H6*$H$3+I6*$I$3 -> 310 | U6: =ROUND((T6/($E$3+$H$3+$I$3)),0) -> 6 | V6: =VLOOKUP(U6,gradelookup!$A$1:$B$16,2,FALSE) -> D+ | W6: =L6*$L$3 -> 60 | X6: =W6/$L$3 -> 12 | Y6: =VLOOKUP(X6,gradelookup!$A$1:$B$16,2,FALSE) -> B+
B7: Student 2 | C7: 10002 | E7: 10 | F7: 9 | G7: 11 | H7: 11 | I7: 6 | J7: 11 | K7: 14 | L7: 14 | N7: =J7*$J$3+G7*$G$3+E7*$E$3+L7*$L$3+F7*$F$3+H7*$H$3+I7*$I$3+K7*$K$3 -> 1050 | O7: =ROUND((N7/(SUM($E$3:$L$3))),0) -> 11 | P7: =VLOOKUP(O7,gradelookup!$A$1:$B$16,2,FALSE) -> B | Q7: =J7*$J$3+G7*$G$3+F7*$F$3+K7*$K$3 -> 490 | R7: =ROUND((Q7/($J$3+$G$3+$F$3+$K$3)),0) -> 11 | S7: =VLOOKUP(R7,gradelookup!$A$1:$B$16,2,FALSE) -> B | T7: =E7*$E$3+H7*$H$3+I7*$I$3 -> 490 | U7: =ROUND((T7/($E$3+$H$3+$I$3)),0) -> 10 | V7: =VLOOKUP(U7,gradelookup!$A$1:$B$16,2,FALSE) -> B- | W7: =L7*$L$3 -> 70 | X7: =W7/$L$3 -> 14 | Y7: =VLOOKUP(X7,gradelookup!$A$1:$B$16,2,FALSE) -> A
B8: Student 3 | C8: 10003 | E8: 6 | F8: 8 | G8: 9 | H8: 8 | I8: 5 | J8: 14 | K8: 6 | L8: 8 | N8: =J8*$J$3+G8*$G$3+E8*$E$3+L8*$L$3+F8*$F$3+H8*$H$3+I8*$I$3+K8*$K$3 -> 820 | O8: =ROUND((N8/(SUM($E$3:$L$3))),0) -> 8 | P8: =VLOOKUP(O8,gradelookup!$A$1:$B$16,2,FALSE) -> C | Q8: =J8*$J$3+G8*$G$3+F8*$F$3+K8*$K$3 -> 430 | R8: =ROUND((Q8/($J$3+$G$3+$F$3+$K$3)),0) -> 10 | S8: =VLOOKUP(R8,gradelookup!$A$1:$B$16,2,FALSE) -> B- | T8: =E8*$E$3+H8*$H$3+I8*$I$3 -> 350 | U8: =ROUND((T8/($E$3+$H$3+$I$3)),0) -> 7 | V8: =VLOOKUP(U8,gradelookup!$A$1:$B$16,2,FALSE) -> C- | W8: =L8*$L$3 -> 40 | X8: =W8/$L$3 -> 8 | Y8: =VLOOKUP(X8,gradelookup!$A$1:$B$16,2,FALSE) -> C
B9: Student 4 | C9: 10004 | E9: 12 | F9: 11 | G9: 12 | H9: 8 | I9: 8 | J9: 12 | K9: 6 | L9: 14 | N9: =J9*$J$3+G9*$G$3+E9*$E$3+L9*$L$3+F9*$F$3+H9*$H$3+I9*$I$3+K9*$K$3 -> 1010 | O9: =ROUND((N9/(SUM($E$3:$L$3))),0) -> 10 | P9: =VLOOKUP(O9,gradelookup!$A$1:$B$16,2,FALSE) -> B- | Q9: =J9*$J$3+G9*$G$3+F9*$F$3+K9*$K$3 -> 500 | R9: =ROUND((Q9/($J$3+$G$3+$F$3+$K$3)),0) -> 11 | S9: =VLOOKUP(R9,gradelookup!$A$1:$B$16,2,FALSE) -> B | T9: =E9*$E$3+H9*$H$3+I9*$I$3 -> 440 | U9: =ROUND((T9/($E$3+$H$3+$I$3)),0) -> 9 | V9: =VLOOKUP(U9,gradelookup!$A$1:$B$16,2,FALSE) -> C+ | W9: =L9*$L$3 -> 70 | X9: =W9/$L$3 -> 14 | Y9: =VLOOKUP(X9,gradelookup!$A$1:$B$16,2,FALSE) -> A
B10: Student 5 | C10: 10005 | E10: 11 | F10: 9 | G10: 1 | H10: 9 | I10: 6 | J10: 10 | K10: 6 | L10: 12 | N10: =J10*$J$3+G10*$G$3+E10*$E$3+L10*$L$3+F10*$F$3+H10*$H$3+I10*$I$3+K10*$K$3 -> 740 | O10: =ROUND((N10/(SUM($E$3:$L$3))),0) -> 7 | P10: =VLOOKUP(O10,gradelookup!$A$1:$B$16,2,FALSE) -> C- | Q10: =J10*$J$3+G10*$G$3+F10*$F$3+K10*$K$3 -> 240 | R10: =ROUND((Q10/($J$3+$G$3+$F$3+$K$3)),0) -> 5 | S10: =VLOOKUP(R10,gradelookup!$A$1:$B$16,2,FALSE) -> D | T10: =E10*$E$3+H10*$H$3+I10*$I$3 -> 440 | U10: =ROUND((T10/($E$3+$H$3+$I$3)),0) -> 9 | V10: =VLOOKUP(U10,gradelookup!$A$1:$B$16,2,FALSE) -> C+ | W10: =L10*$L$3 -> 60 | X10: =W10/$L$3 -> 12 | Y10: =VLOOKUP(X10,gradelookup!$A$1:$B$16,2,FALSE) -> B+
B11: Student 6 | C11: 10006 | E11: 5 | F11: 4 | G11: 5 | H11: 7 | I11: 10 | J11: 9 | K11: 6 | L11: 5 | N11: =J11*$J$3+G11*$G$3+E11*$E$3+L11*$L$3+F11*$F$3+H11*$H$3+I11*$I$3+K11*$K$3 -> 645 | O11: =ROUND((N11/(SUM($E$3:$L$3))),0) -> 6 | P11: =VLOOKUP(O11,gradelookup!$A$1:$B$16,2,FALSE) -> D+ | Q11: =J11*$J$3+G11*$G$3+F11*$F$3+K11*$K$3 -> 260 | R11: =ROUND((Q11/($J$3+$G$3+$F$3+$K$3)),0) -> 6 | S11: =VLOOKUP(R11,gradelookup!$A$1:$B$16,2,FALSE) -> D+ | T11: =E11*$E$3+H11*$H$3+I11*$I$3 -> 360 | U11: =ROUND((T11/($E$3+$H$3+$I$3)),0) -> 7 | V11: =VLOOKUP(U11,gradelookup!$A$1:$B$16,2,FALSE) -> C- | W11: =L11*$L$3 -> 25 | X11: =W11/$L$3 -> 5 | Y11: =VLOOKUP(X11,gradelookup!$A$1:$B$16,2,FALSE) -> D
B12: Student 7 | C12: 10007 | E12: 13 | F12: 8 | G12: 9 | H12: 6 | I12: 8 | J12: 13 | K12: 6 | L12: 12 | N12: =J12*$J$3+G12*$G$3+E12*$E$3+L12*$L$3+F12*$F$3+H12*$H$3+I12*$I$3+K12*$K$3 -> 870 | O12: =ROUND((N12/(SUM($E$3:$L$3))),0) -> 9 | P12: =VLOOKUP(O12,gradelookup!$A$1:$B$16,2,FALSE) -> C+ | Q12: =J12*$J$3+G12*$G$3+F12*$F$3+K12*$K$3 -> 420 | R12: =ROUND((Q12/($J$3+$G$3+$F$3+$K$3)),0) -> 9 | S12: =VLOOKUP(R12,gradelookup!$A$1:$B$16,2,FALSE) -> C+ | T12: =E12*$E$3+H12*$H$3+I12*$I$3 -> 390 | U12: =ROUND((T12/($E$3+$H$3+$I$3)),0) -> 8 | V12: =VLOOKUP(U12,gradelookup!$A$1:$B$16,2,FALSE) -> C | W12: =L12*$L$3 -> 60 | X12: =W12/$L$3 -> 12 | Y12: =VLOOKUP(X12,gradelookup!$A$1:$B$16,2,FALSE) -> B+
B13: Student 8 | C13: 10008 | E13: 8 | F13: 7 | G13: 8 | H13: 6 | I13: 7 | J13: 6 | K13: 4 | L13: 8 | N13: =J13*$J$3+G13*$G$3+E13*$E$3+L13*$L$3+F13*$F$3+H13*$H$3+I13*$I$3+K13*$K$3 -> 680 | O13: =ROUND((N13/(SUM($E$3:$L$3))),0) -> 7 | P13: =VLOOKUP(O13,gradelookup!$A$1:$B$16,2,FALSE) -> C- | Q13: =J13*$J$3+G13*$G$3+F13*$F$3+K13*$K$3 -> 310 | R13: =ROUND((Q13/($J$3+$G$3+$F$3+$K$3)),0) -> 7 | S13: =VLOOKUP(R13,gradelookup!$A$1:$B$16,2,FALSE) -> C- | T13: =E13*$E$3+H13*$H$3+I13*$I$3 -> 330 | U13: =ROUND((T13/($E$3+$H$3+$I$3)),0) -> 7 | V13: =VLOOKUP(U13,gradelookup!$A$1:$B$16,2,FALSE) -> C- | W13: =L13*$L$3 -> 40 | X13: =W13/$L$3 -> 8 | Y13: =VLOOKUP(X13,gradelookup!$A$1:$B$16,2,FALSE) -> C
B14: Student 9 | C14: 10009 | E14: 0 | F14: 6 | G14: 9 | H14: 9 | I14: 5 | J14: 9 | K14: 8 | L14: 6 | N14: =J14*$J$3+G14*$G$3+E14*$E$3+L14*$L$3+F14*$F$3+H14*$H$3+I14*$I$3+K14*$K$3 -> 720 | O14: =ROUND((N14/(SUM($E$3:$L$3))),0) -> 7 | P14: =VLOOKUP(O14,gradelookup!$A$1:$B$16,2,FALSE) -> C- | Q14: =J14*$J$3+G14*$G$3+F14*$F$3+K14*$K$3 -> 370 | R14: =ROUND((Q14/($J$3+$G$3+$F$3+$K$3)),0) -> 8 | S14: =VLOOKUP(R14,gradelookup!$A$1:$B$16,2,FALSE) -> C | T14: =E14*$E$3+H14*$H$3+I14*$I$3 -> 320 | U14: =ROUND((T14/($E$3+$H$3+$I$3)),0) -> 6 | V14: =VLOOKUP(U14,gradelookup!$A$1:$B$16,2,FALSE) -> D+ | W14: =L14*$L$3 -> 30 | X14: =W14/$L$3 -> 6 | Y14: =VLOOKUP(X14,gradelookup!$A$1:$B$16,2,FALSE) -> D+
B15: Student 10 | C15: 10010 | E15: 3 | F15: 3 | G15: 6 | H15: 6 | I15: 6 | J15: 9 | K15: 5 | L15: 6 | N15: =J15*$J$3+G15*$G$3+E15*$E$3+L15*$L$3+F15*$F$3+H15*$H$3+I15*$I$3+K15*$K$3 -> 565 | O15: =ROUND((N15/(SUM($E$3:$L$3))),0) -> 6 | P15: =VLOOKUP(O15,gradelookup!$A$1:$B$16,2,FALSE) -> D+ | Q15: =J15*$J$3+G15*$G$3+F15*$F$3+K15*$K$3 -> 265 | R15: =ROUND((Q15/($J$3+$G$3+$F$3+$K$3)),0) -> 6 | S15: =VLOOKUP(R15,gradelookup!$A$1:$B$16,2,FALSE) -> D+ | T15: =E15*$E$3+H15*$H$3+I15*$I$3 -> 270 | U15: =ROUND((T15/($E$3+$H$3+$I$3)),0) -> 5 | V15: =VLOOKUP(U15,gradelookup!$A$1:$B$16,2,FALSE) -> D | W15: =L15*$L$3 -> 30 | X15: =W15/$L$3 -> 6 | Y15: =VLOOKUP(X15,gradelookup!$A$1:$B$16,2,FALSE) -> D+
B16: Student 11 | C16: 10011 | E16: 12 | F16: 12 | G16: 13 | H16: 11 | I16: 14 | J16: 13 | K16: 4 | L16: 0 | N16: =J16*$J$3+G16*$G$3+E16*$E$3+L16*$L$3+F16*$F$3+H16*$H$3+I16*$I$3+K16*$K$3 -> 1120 | O16: =ROUND((N16/(SUM($E$3:$L$3))),0) -> 11 | P16: =VLOOKUP(O16,gradelookup!$A$1:$B$16,2,FALSE) -> B | Q16: =J16*$J$3+G16*$G$3+F16*$F$3+K16*$K$3 -> 530 | R16: =ROUND((Q16/($J$3+$G$3+$F$3+$K$3)),0) -> 12 | S16: =VLOOKUP(R16,gradelookup!$A$1:$B$16,2,FALSE) -> B+ | T16: =E16*$E$3+H16*$H$3+I16*$I$3 -> 590 | U16: =ROUND((T16/($E$3+$H$3+$I$3)),0) -> 12 | V16: =VLOOKUP(U16,gradelookup!$A$1:$B$16,2,FALSE) -> B+ | W16: =L16*$L$3 -> 0 | X16: =W16/$L$3 -> 0 | Y16: =VLOOKUP(X16,gradelookup!$A$1:$B$16,2,FALSE) -> E-
B17: Student 12 | C17: 10012 | E17: 8 | F17: 8 | G17: 7 | H17: 6 | I17: 5 | J17: 11 | K17: 6 | L17: 15 | N17: =J17*$J$3+G17*$G$3+E17*$E$3+L17*$L$3+F17*$F$3+H17*$H$3+I17*$I$3+K17*$K$3 -> 745 | O17: =ROUND((N17/(SUM($E$3:$L$3))),0) -> 7 | P17: =VLOOKUP(O17,gradelookup!$A$1:$B$16,2,FALSE) -> C- | Q17: =J17*$J$3+G17*$G$3+F17*$F$3+K17*$K$3 -> 360 | R17: =ROUND((Q17/($J$3+$G$3+$F$3+$K$3)),0) -> 8 | S17: =VLOOKUP(R17,gradelookup!$A$1:$B$16,2,FALSE) -> C | T17: =E17*$E$3+H17*$H$3+I17*$I$3 -> 310 | U17: =ROUND((T17/($E$3+$H$3+$I$3)),0) -> 6 | V17: =VLOOKUP(U17,gradelookup!$A$1:$B$16,2,FALSE) -> D+ | W17: =L17*$L$3 -> 75 | X17: =W17/$L$3 -> 15 | Y17: =VLOOKUP(X17,gradelookup!$A$1:$B$16,2,FALSE) -> A+
... B27: Student 22 | C27: 10022 | E27: 11 | F27: 9 | G27: 9 | H27: 11 | I27: 14 | J27: 11 | K27: 5 | L27: 6 | N27: =J27*$J$3+G27*$G$3+E27*$E$3+L27*$L$3+F27*$F$3+H27*$H$3+I27*$I$3+K27*$K$3 -> 1015 | O27: =ROUND((N27/(SUM($E$3:$L$3))),0) -> 10 | P27: =VLOOKUP(O27,gradelookup!$A$1:$B$16,2,FALSE) -> B- | Q27: =J27*$J$3+G27*$G$3+F27*$F$3+K27*$K$3 -> 405 | R27: =ROUND((Q27/($J$3+$G$3+$F$3+$K$3)),0) -> 9 | S27: =VLOOKUP(R27,gradelookup!$A$1:$B$16,2,FALSE) -> C+ | T27: =E27*$E$3+H27*$H$3+I27*$I$3 -> 580 | U27: =ROUND((T27/($E$3+$H$3+$I$3)),0) -> 12 | V27: =VLOOKUP(U27,gradelookup!$A$1:$B$16,2,FALSE) -> B+ | W27: =L27*$L$3 -> 30 | X27: =W27/$L$3 -> 6 | Y27: =VLOOKUP(X27,gradelookup!$A$1:$B$16,2,FALSE) -> D+
D29: Count | E29: =COUNT(E6:E27) -> 22 | F29: =COUNT(F6:F27) -> 22 | G29: =COUNT(G6:G27) -> 22 | H29: =COUNT(H6:H27) -> 22 | I29: =COUNT(I6:I27) -> 22 | J29: =COUNT(J6:J27) -> 22 | K29: =COUNT(K6:K27) -> 22 | L29: =COUNT(L6:L27) -> 22 | N29: =COUNT(N6:N27) -> 22 | O29: =COUNT(O6:O27) -> 22 | Q29: =COUNT(Q6:Q27) -> 22 | R29: =COUNT(R6:R27) -> 22 | T29: =COUNT(T6:T27) -> 22 | U29: =COUNT(U6:U27) -> 22 | W29: =COUNT(W6:W27) -> 22 | X29: =COUNT(X6:X27) -> 22
D30: Average | E30: =AVERAGE(E6:E27) -> 9.0454545 | F30: =AVERAGE(F6:F27) -> 8.1363636 | G30: =AVERAGE(G6:G27) -> 8.8636364 | H30: =AVERAGE(H6:H27) -> 8.0454545 | I30: =AVERAGE(I6:I27) -> 7.5 | J30: =AVERAGE(J6:J27) -> 10.545455 | K30: =AVERAGE(K6:K27) -> 6.1363636 | L30: =AVERAGE(L6:L27) -> 9.0454545 | N30: =AVERAGE(N6:N27) -> 846.81818 | O30: =AVERAGE(O6:O27) -> 8.4545455 | Q30: =AVERAGE(Q6:Q27) -> 394.77273 | R30: =AVERAGE(R6:R27) -> 8.8181818 | T30: =AVERAGE(T6:T27) -> 406.81818 | U30: =AVERAGE(U6:U27) -> 8.0909091 | W30: =AVERAGE(W6:W27) -> 45.227273 | X30: =AVERAGE(X6:X27) -> 9.0454545
D31: St Dev | E31: =STDEV(E6:E27) -> 4.0056778 | F31: =STDEV(F6:F27) -> 2.833397 | G31: =STDEV(G6:G27) -> 3.2410383 | H31: =STDEV(H6:H27) -> 1.7855844 | I31: =STDEV(I6:I27) -> 3.2477098 | J31: =STDEV(J6:J27) -> 2.9232609 | K31: =STDEV(K6:K27) -> 2.7132032 | L31: =STDEV(L6:L27) -> 3.8480332 | N31: =STDEV(N6:N27) -> 179.94408 | O31: =STDEV(O6:O27) -> 1.8702501 | Q31: =STDEV(Q6:Q27) -> 103.36571 | R31: =STDEV(R6:R27) -> 2.3428994 | T31: =STDEV(T6:T27) -> 98.869147 | U31: =STDEV(U6:U27) -> 2.0910032 | W31: =STDEV(W6:W27) -> 19.240166 | X31: =STDEV(X6:X27) -> 3.8480332
D32: Median | E32: =MEDIAN(E6:E27) -> 10.5 | F32: =MEDIAN(F6:F27) -> 8 | G32: =MEDIAN(G6:G27) -> 9 | H32: =MEDIAN(H6:H27) -> 8 | I32: =MEDIAN(I6:I27) -> 6.5 | J32: =MEDIAN(J6:J27) -> 11 | K32: =MEDIAN(K6:K27) -> 6 | L32: =MEDIAN(L6:L27) -> 8 | N32: =MEDIAN(N6:N27) -> 835 | O32: =MEDIAN(O6:O27) -> 8.5 | Q32: =MEDIAN(Q6:Q27) -> 412.5 | R32: =MEDIAN(R6:R27) -> 9 | T32: =MEDIAN(T6:T27) -> 405 | U32: =MEDIAN(U6:U27) -> 8 | W32: =MEDIAN(W6:W27) -> 40 | X32: =MEDIAN(X6:X27) -> 8

Sheet MarkBook - Gutman
D2: Type | E2: Exam | F2: Assign | G2: Assign | H2: Exam | I2: Assign | J2: Exam | K2: Exam | L2: Exam
D3: Weight | E3: 10 | F3: 10 | G3: 20 | H3: 5 | I3: 10 | J3: 30 | K3: 10 | L3: 5
D4: Difficulty | E4: 1 | F4: 2 | G4: 3 | H4: 4 | I4: 5 | J4: 6 | K4: 7 | L4: 8 | N4: Overall | Q4: Science Inquiry Skills (SIS) | T4: Scientific Understanding (SU) | W4: Communication
B5: Name | C5: St Code | D5: Criteria | E5: SIS display-interpret data | F5: SU - recall & explanation | G5: SIS - exp design | H5: Comm | I5: SIS - display data | J5: SU - recall, explanation | K5: SU - maths | L5: SIS - exp design, review | N5: Total weighted | O5: Total avg | P5: Overall grade | Q5: SIS weighted | R5: SIS avg | S5: SIS grade | T5: SU weighted | U5: SU avg | V5: SU grade | W5: com weighted | X5: Com avg | Y5: Com Grade
B6: Student 11 | C6: 10011 | E6: 13 | F6: 12 | G6: 13 | H6: 0 | I6: 12 | J6: 11 | K6: 14 | L6: 4 | N6: =E6*$E$3+G6*$G$3+F6*$F$3+H6*$H$3+I6*$I$3+J6*$J$3+K6*$K$3+L6*$L$3 -> 1120 | O6: =ROUND((N6/(SUM($E$3:$L$3))),0) -> 11 | P6: =VLOOKUP(O6,gradelookup!$A$1:$B$16,2,FALSE) -> B | Q6: =E6*$E$3+G6*$G$3+I6*$I$3+L6*$L$3 -> 530 | R6: =ROUND((Q6/($E$3+$G$3+$I$3+$L$3)),0) -> 12 | S6: =VLOOKUP(R6,gradelookup!$A$1:$B$16,2,FALSE) -> B+ | T6: =F6*$F$3+J6*$J$3+K6*$K$3 -> 590 | U6: =ROUND((T6/($F$3+$J$3+$K$3)),0) -> 12 | V6: =VLOOKUP(U6,gradelookup!$A$1:$B$16,2,FALSE) -> B+ | W6: =H6*$H$3 -> 0 | X6: =W6/$H$3 -> 0 | Y6: =VLOOKUP(X6,gradelookup!$A$1:$B$16,2,FALSE) -> E-
B7: Student 19 | C7: 10019 | E7: 14 | F7: 14 | G7: 11 | H7: 8 | I7: 11 | J7: 10 | K7: 12 | L7: 6 | N7: =E7*$E$3+G7*$G$3+F7*$F$3+H7*$H$3+I7*$I$3+J7*$J$3+K7*$K$3+L7*$L$3 -> 1100 | O7: =ROUND((N7/(SUM($E$3:$L$3))),0) -> 11 | P7: =VLOOKUP(O7,gradelookup!$A$1:$B$16,2,FALSE) -> B | Q7: =E7*$E$3+G7*$G$3+I7*$I$3+L7*$L$3 -> 500 | R7: =ROUND((Q7/($E$3+$G$3+$I$3+$L$3)),0) -> 11 | S7: =VLOOKUP(R7,gradelookup!$A$1:$B$16,2,FALSE) -> B | T7: =F7*$F$3+J7*$J$3+K7*$K$3 -> 560 | U7: =ROUND((T7/($F$3+$J$3+$K$3)),0) -> 11 | V7: =VLOOKUP(U7,gradelookup!$A$1:$B$16,2,FALSE) -> B | W7: =H7*$H$3 -> 40 | X7: =W7/$H$3 -> 8 | Y7: =VLOOKUP(X7,gradelookup!$A$1:$B$16,2,FALSE) -> C
B8: Student 20 | C8: 10020 | E8: 14 | F8: 14 | G8: 14 | H8: 5 | I8: 14 | J8: 7 | K8: 12 | L8: 1 | N8: =E8*$E$3+G8*$G$3+F8*$F$3+H8*$H$3+I8*$I$3+J8*$J$3+K8*$K$3+L8*$L$3 -> 1060 | O8: =ROUND((N8/(SUM($E$3:$L$3))),0) -> 11 | P8: =VLOOKUP(O8,gradelookup!$A$1:$B$16,2,FALSE) -> B | Q8: =E8*$E$3+G8*$G$3+I8*$I$3+L8*$L$3 -> 565 | R8: =ROUND((Q8/($E$3+$G$3+$I$3+$L$3)),0) -> 13 | S8: =VLOOKUP(R8,gradelookup!$A$1:$B$16,2,FALSE) -> A- | T8: =F8*$F$3+J8*$J$3+K8*$K$3 -> 470 | U8: =ROUND((T8/($F$3+$J$3+$K$3)),0) -> 9 | V8: =VLOOKUP(U8,gradelookup!$A$1:$B$16,2,FALSE) -> C+ | W8: =H8*$H$3 -> 25 | X8: =W8/$H$3 -> 5 | Y8: =VLOOKUP(X8,gradelookup!$A$1:$B$16,2,FALSE) -> D
B9: Student 2 | C9: 10002 | E9: 11 | F9: 10 | G9: 11 | H9: 14 | I9: 9 | J9: 11 | K9: 6 | L9: 14 | N9: =E9*$E$3+G9*$G$3+F9*$F$3+H9*$H$3+I9*$I$3+J9*$J$3+K9*$K$3+L9*$L$3 -> 1050 | O9: =ROUND((N9/(SUM($E$3:$L$3))),0) -> 11 | P9: =VLOOKUP(O9,gradelookup!$A$1:$B$16,2,FALSE) -> B | Q9: =E9*$E$3+G9*$G$3+I9*$I$3+L9*$L$3 -> 490 | R9: =ROUND((Q9/($E$3+$G$3+$I$3+$L$3)),0) -> 11 | S9: =VLOOKUP(R9,gradelookup!$A$1:$B$16,2,FALSE) -> B | T9: =F9*$F$3+J9*$J$3+K9*$K$3 -> 490 | U9: =ROUND((T9/($F$3+$J$3+$K$3)),0) -> 10 | V9: =VLOOKUP(U9,gradelookup!$A$1:$B$16,2,FALSE) -> B- | W9: =H9*$H$3 -> 70 | X9: =W9/$H$3 -> 14 | Y9: =VLOOKUP(X9,gradelookup!$A$1:$B$16,2,FALSE) -> A
B10: Student 22 | C10: 10022 | E10: 11 | F10: 11 | G10: 9 | H10: 6 | I10: 9 | J10: 11 | K10: 14 | L10: 5 | N10: =E10*$E$3+G10*$G$3+F10*$F$3+H10*$H$3+I10*$I$3+J10*$J$3+K10*$K$3+L10*$L$3 -> 1015 | O10: =ROUND((N10/(SUM($E$3:$L$3))),0) -> 10 | P10: =VLOOKUP(O10,gradelookup!$A$1:$B$16,2,FALSE) -> B- | Q10: =E10*$E$3+G10*$G$3+I10*$I$3+L10*$L$3 -> 405 | R10: =ROUND((Q10/($E$3+$G$3+$I$3+$L$3)),0) -> 9 | S10: =VLOOKUP(R10,gradelookup!$A$1:$B$16,2,FALSE) -> C+ | T10: =F10*$F$3+J10*$J$3+K10*$K$3 -> 580 | U10: =ROUND((T10/($F$3+$J$3+$K$3)),0) -> 12 | V10: =VLOOKUP(U10,gradelookup!$A$1:$B$16,2,FALSE) -> B+ | W10: =H10*$H$3 -> 30 | X10: =W10/$H$3 -> 6 | Y10: =VLOOKUP(X10,gradelookup!$A$1:$B$16,2,FALSE) -> D+
B11: Student 4 | C11: 10004 | E11: 12 | F11: 12 | G11: 12 | H11: 14 | I11: 11 | J11: 8 | K11: 8 | L11: 6 | N11: =E11*$E$3+G11*$G$3+F11*$F$3+H11*$H$3+I11*$I$3+J11*$J$3+K11*$K$3+L11*$L$3 -> 1010 | O11: =ROUND((N11/(SUM($E$3:$L$3))),0) -> 10 | P11: =VLOOKUP(O11,gradelookup!$A$1:$B$16,2,FALSE) -> B- | Q11: =E11*$E$3+G11*$G$3+I11*$I$3+L11*$L$3 -> 500 | R11: =ROUND((Q11/($E$3+$G$3+$I$3+$L$3)),0) -> 11 | S11: =VLOOKUP(R11,gradelookup!$A$1:$B$16,2,FALSE) -> B | T11: =F11*$F$3+J11*$J$3+K11*$K$3 -> 440 | U11: =ROUND((T11/($F$3+$J$3+$K$3)),0) -> 9 | V11: =VLOOKUP(U11,gradelookup!$A$1:$B$16,2,FALSE) -> C+ | W11: =H11*$H$3 -> 70 | X11: =W11/$H$3 -> 14 | Y11: =VLOOKUP(X11,gradelookup!$A$1:$B$16,2,FALSE) -> A
B12: Student 14 | C12: 10014 | E12: 7 | F12: 12 | G12: 13 | H12: 8 | I12: 12 | J12: 10 | K12: 8 | L12: 3 | N12: =E12*$E$3+G12*$G$3+F12*$F$3+H12*$H$3+I12*$I$3+J12*$J$3+K12*$K$3+L12*$L$3 -> 1005 | O12: =ROUND((N12/(SUM($E$3:$L$3))),0) -> 10 | P12: =VLOOKUP(O12,gradelookup!$A$1:$B$16,2,FALSE) -> B- | Q12: =E12*$E$3+G12*$G$3+I12*$I$3+L12*$L$3 -> 465 | R12: =ROUND((Q12/($E$3+$G$3+$I$3+$L$3)),0) -> 10 | S12: =VLOOKUP(R12,gradelookup!$A$1:$B$16,2,FALSE) -> B- | T12: =F12*$F$3+J12*$J$3+K12*$K$3 -> 500 | U12: =ROUND((T12/($F$3+$J$3+$K$3)),0) -> 10 | V12: =VLOOKUP(U12,gradelookup!$A$1:$B$16,2,FALSE) -> B- | W12: =H12*$H$3 -> 40 | X12: =W12/$H$3 -> 8 | Y12: =VLOOKUP(X12,gradelookup!$A$1:$B$16,2,FALSE) -> C
B13: Student 21 | C13: 10021 | E13: 12 | F13: 11 | G13: 11 | H13: 14 | I13: 8 | J13: 9 | K13: 9 | L13: 6 | N13: =E13*$E$3+G13*$G$3+F13*$F$3+H13*$H$3+I13*$I$3+J13*$J$3+K13*$K$3+L13*$L$3 -> 990 | O13: =ROUND((N13/(SUM($E$3:$L$3))),0) -> 10 | P13: =VLOOKUP(O13,gradelookup!$A$1:$B$16,2,FALSE) -> B- | Q13: =E13*$E$3+G13*$G$3+I13*$I$3+L13*$L$3 -> 450 | R13: =ROUND((Q13/($E$3+$G$3+$I$3+$L$3)),0) -> 10 | S13: =VLOOKUP(R13,gradelookup!$A$1:$B$16,2,FALSE) -> B- | T13: =F13*$F$3+J13*$J$3+K13*$K$3 -> 470 | U13: =ROUND((T13/($F$3+$J$3+$K$3)),0) -> 9 | V13: =VLOOKUP(U13,gradelookup!$A$1:$B$16,2,FALSE) -> C+ | W13: =H13*$H$3 -> 70 | X13: =W13/$H$3 -> 14 | Y13: =VLOOKUP(X13,gradelookup!$A$1:$B$16,2,FALSE) -> A
B14: Student 15 | C14: 10015 | E14: 11 | F14: 14 | G14: 9 | H14: 12 | I14: 11 | J14: 8 | K14: 4 | L14: 6 | N14: =E14*$E$3+G14*$G$3+F14*$F$3+H14*$H$3+I14*$I$3+J14*$J$3+K14*$K$3+L14*$L$3 -> 910 | O14: =ROUND((N14/(SUM($E$3:$L$3))),0) -> 9 | P14: =VLOOKUP(O14,gradelookup!$A$1:$B$16,2,FALSE) -> C+ | Q14: =E14*$E$3+G14*$G$3+I14*$I$3+L14*$L$3 -> 430 | R14: =ROUND((Q14/($E$3+$G$3+$I$3+$L$3)),0) -> 10 | S14: =VLOOKUP(R14,gradelookup!$A$1:$B$16,2,FALSE) -> B- | T14: =F14*$F$3+J14*$J$3+K14*$K$3 -> 420 | U14: =ROUND((T14/($F$3+$J$3+$K$3)),0) -> 8 | V14: =VLOOKUP(U14,gradelookup!$A$1:$B$16,2,FALSE) -> C | W14: =H14*$H$3 -> 60 | X14: =W14/$H$3 -> 12 | Y14: =VLOOKUP(X14,gradelookup!$A$1:$B$16,2,FALSE) -> B+
B15: Student 7 | C15: 10007 | E15: 13 | F15: 13 | G15: 9 | H15: 12 | I15: 8 | J15: 6 | K15: 8 | L15: 6 | N15: =E15*$E$3+G15*$G$3+F15*$F$3+H15*$H$3+I15*$I$3+J15*$J$3+K15*$K$3+L15*$L$3 -> 870 | O15: =ROUND((N15/(SUM($E$3:$L$3))),0) -> 9 | P15: =VLOOKUP(O15,gradelookup!$A$1:$B$16,2,FALSE) -> C+ | Q15: =E15*$E$3+G15*$G$3+I15*$I$3+L15*$L$3 -> 420 | R15: =ROUND((Q15/($E$3+$G$3+$I$3+$L$3)),0) -> 9 | S15: =VLOOKUP(R15,gradelookup!$A$1:$B$16,2,FALSE) -> C+ | T15: =F15*$F$3+J15*$J$3+K15*$K$3 -> 390 | U15: =ROUND((T15/($F$3+$J$3+$K$3)),0) -> 8 | V15: =VLOOKUP(U15,gradelookup!$A$1:$B$16,2,FALSE) -> C | W15: =H15*$H$3 -> 60 | X15: =W15/$H$3 -> 12 | Y15: =VLOOKUP(X15,gradelookup!$A$1:$B$16,2,FALSE) -> B+
B16: Student 1 | C16: 10001 | E16: 15 | F16: 7 | G16: 11 | H16: 12 | I16: 6 | J16: 7 | K16: 3 | L16: 10 | N16: =E16*$E$3+G16*$G$3+F16*$F$3+H16*$H$3+I16*$I$3+J16*$J$3+K16*$K$3+L16*$L$3 -> 850 | O16: =ROUND((N16/(SUM($E$3:$L$3))),0) -> 9 | P16: =VLOOKUP(O16,gradelookup!$A$1:$B$16,2,FALSE) -> C+ | Q16: =E16*$E$3+G16*$G$3+I16*$I$3+L16*$L$3 -> 480 | R16: =ROUND((Q16/($E$3+$G$3+$I$3+$L$3)),0) -> 11 | S16: =VLOOKUP(R16,gradelookup!$A$1:$B$16,2,FALSE) -> B | T16: =F16*$F$3+J16*$J$3+K16*$K$3 -> 310 | U16: =ROUND((T16/($F$3+$J$3+$K$3)),0) -> 6 | V16: =VLOOKUP(U16,gradelookup!$A$1:$B$16,2,FALSE) -> D+ | W16: =H16*$H$3 -> 60 | X16: =W16/$H$3 -> 12 | Y16: =VLOOKUP(X16,gradelookup!$A$1:$B$16,2,FALSE) -> B+
B17: Student 13 | C17: 10013 | E17: 9 | F17: 11 | G17: 7 | H17: 8 | I17: 6 | J17: 8 | K17: 9 | L17: 9 | N17: =E17*$E$3+G17*$G$3+F17*$F$3+H17*$H$3+I17*$I$3+J17*$J$3+K17*$K$3+L17*$L$3 -> 815 | O17: =ROUND((N17/(SUM($E$3:$L$3))),0) -> 8 | P17: =VLOOKUP(O17,gradelookup!$A$1:$B$16,2,FALSE) -> C | Q17: =E17*$E$3+G17*$G$3+I17*$I$3+L17*$L$3 -> 335 | R17: =ROUND((Q17/($E$3+$G$3+$I$3+$L$3)),0) -> 7 | S17: =VLOOKUP(R17,gradelookup!$A$1:$B$16,2,FALSE) -> C- | T17: =F17*$F$3+J17*$J$3+K17*$K$3 -> 440 | U17: =ROUND((T17/($F$3+$J$3+$K$3)),0) -> 9 | V17: =VLOOKUP(U17,gradelookup!$A$1:$B$16,2,FALSE) -> C+ | W17: =H17*$H$3 -> 40 | X17: =W17/$H$3 -> 8 | Y17: =VLOOKUP(X17,gradelookup!$A$1:$B$16,2,FALSE) -> C
... B27: Student 16 | C27: 10016 | E27: 3 | F27: 2 | G27: 3 | H27: 6 | I27: 6 | J27: 8 | K27: 4 | L27: 3 | N27: =E27*$E$3+G27*$G$3+F27*$F$3+H27*$H$3+I27*$I$3+J27*$J$3+K27*$K$3+L27*$L$3 -> 495 | O27: =ROUND((N27/(SUM($E$3:$L$3))),0) -> 5 | P27: =VLOOKUP(O27,gradelookup!$A$1:$B$16,2,FALSE) -> D | Q27: =E27*$E$3+G27*$G$3+I27*$I$3+L27*$L$3 -> 165 | R27: =ROUND((Q27/($E$3+$G$3+$I$3+$L$3)),0) -> 4 | S27: =VLOOKUP(R27,gradelookup!$A$1:$B$16,2,FALSE) -> D- | T27: =F27*$F$3+J27*$J$3+K27*$K$3 -> 300 | U27: =ROUND((T27/($F$3+$J$3+$K$3)),0) -> 6 | V27: =VLOOKUP(U27,gradelookup!$A$1:$B$16,2,FALSE) -> D+ | W27: =H27*$H$3 -> 30 | X27: =W27/$H$3 -> 6 | Y27: =VLOOKUP(X27,gradelookup!$A$1:$B$16,2,FALSE) -> D+
D29: Count | E29: =COUNT(E6:E27) -> 22 | F29: =COUNT(F6:F27) -> 22 | G29: =COUNT(G6:G27) -> 22 | H29: =COUNT(H6:H27) -> 22 | I29: =COUNT(I6:I27) -> 22 | J29: =COUNT(J6:J27) -> 22 | K29: =COUNT(K6:K27) -> 22 | L29: =COUNT(L6:L27) -> 22 | N29: =COUNT(N6:N27) -> 22 | O29: =COUNT(O6:O27) -> 22 | Q29: =COUNT(Q6:Q27) -> 22 | R29: =COUNT(R6:R27) -> 22 | T29: =COUNT(T6:T27) -> 22 | U29: =COUNT(U6:U27) -> 22 | W29: =COUNT(W6:W27) -> 22 | X29: =COUNT(X6:X27) -> 22
D30: Average | E30: =AVERAGE(E6:E27) -> 10.545455 | F30: =AVERAGE(F6:F27) -> 9.0454545 | G30: =AVERAGE(G6:G27) -> 8.8636364 | H30: =AVERAGE(H6:H27) -> 9.0454545 | I30: =AVERAGE(I6:I27) -> 8.1363636 | J30: =AVERAGE(J6:J27) -> 8.0454545 | K30: =AVERAGE(K6:K27) -> 7.5 | L30: =AVERAGE(L6:L27) -> 6.1363636 | N30: =AVERAGE(N6:N27) -> 846.81818 | O30: =AVERAGE(O6:O27) -> 8.4545455 | Q30: =AVERAGE(Q6:Q27) -> 394.77273 | R30: =AVERAGE(R6:R27) -> 8.8181818 | T30: =AVERAGE(T6:T27) -> 406.81818 | U30: =AVERAGE(U6:U27) -> 8.0909091 | W30: =AVERAGE(W6:W27) -> 45.227273 | X30: =AVERAGE(X6:X27) -> 9.0454545
D31: St Dev | E31: =STDEV(E6:E27) -> 2.9232609 | F31: =STDEV(F6:F27) -> 4.0056778 | G31: =STDEV(G6:G27) -> 3.2410383 | H31: =STDEV(H6:H27) -> 3.8480332 | I31: =STDEV(I6:I27) -> 2.833397 | J31: =STDEV(J6:J27) -> 1.7855844 | K31: =STDEV(K6:K27) -> 3.2477098 | L31: =STDEV(L6:L27) -> 2.7132032 | N31: =STDEV(N6:N27) -> 179.94408 | O31: =STDEV(O6:O27) -> 1.8702501 | Q31: =STDEV(Q6:Q27) -> 103.36571 | R31: =STDEV(R6:R27) -> 2.3428994 | T31: =STDEV(T6:T27) -> 98.869147 | U31: =STDEV(U6:U27) -> 2.0910032 | W31: =STDEV(W6:W27) -> 19.240166 | X31: =STDEV(X6:X27) -> 3.8480332
D32: Median | E32: =MEDIAN(E6:E27) -> 11 | F32: =MEDIAN(F6:F27) -> 10.5 | G32: =MEDIAN(G6:G27) -> 9 | H32: =MEDIAN(H6:H27) -> 8 | I32: =MEDIAN(I6:I27) -> 8 | J32: =MEDIAN(J6:J27) -> 8 | K32: =MEDIAN(K6:K27) -> 6.5 | L32: =MEDIAN(L6:L27) -> 6 | N32: =MEDIAN(N6:N27) -> 835 | O32: =MEDIAN(O6:O27) -> 8.5 | Q32: =MEDIAN(Q6:Q27) -> 412.5 | R32: =MEDIAN(R6:R27) -> 9 | T32: =MEDIAN(T6:T27) -> 405 | U32: =MEDIAN(U6:U27) -> 8 | W32: =MEDIAN(W6:W27) -> 40 | X32: =MEDIAN(X6:X27) -> 8

Sheet gradelookup
A1: 15 | B1: A+
A2: 14 | B2: A
A3: 13 | B3: A-
A4: 12 | B4: B+
A5: 11 | B5: B
A6: 10 | B6: B-
A7: 9 | B7: C+
A8: 8 | B8: C
A9: 7 | B9: C-
A10: 6 | B10: D+
A11: 5 | B11: D
A12: 4 | B12: D-
... A16: 0 | B16: E-
